BEGIN:VCALENDAR
VERSION:2.0
PRODID:-//Guyana Association of Georgia - ECPv6.6.0.1//NONSGML v1.0//EN
CALSCALE:GREGORIAN
METHOD:PUBLISH
X-WR-CALNAME:Guyana Association of Georgia
X-ORIGINAL-URL:https://www.gaog.org
X-WR-CALDESC:Events for Guyana Association of Georgia
REFRESH-INTERVAL;VALUE=DURATION:PT1H
X-Robots-Tag:noindex
X-PUBLISHED-TTL:PT1H
BEGIN:VTIMEZONE
TZID:America/New_York
BEGIN:DAYLIGHT
TZOFFSETFROM:-0500
TZOFFSETTO:-0400
TZNAME:EDT
DTSTART:20190310T070000
END:DAYLIGHT
BEGIN:STANDARD
TZOFFSETFROM:-0400
TZOFFSETTO:-0500
TZNAME:EST
DTSTART:20191103T060000
END:STANDARD
END:VTIMEZONE
BEGIN:VEVENT
DTSTART;TZID=America/New_York:20190706T160000
DTEND;TZID=America/New_York:20190706T230000
DTSTAMP:20260425T081310
CREATED:20180628T195929Z
LAST-MODIFIED:20190215T141923Z
UID:17794-1562428800-1562454000@www.gaog.org
SUMMARY:Annual Fish Fry & BBQ
DESCRIPTION:4:00PM – 11:00 PM \n$10 Donation per plate
URL:https://www.gaog.org/event/annual-fish-fry-bbq/
LOCATION:GAOG Secretariat\, 1970 Panola Rd.\, Lithonia\, GA\, 30058\, United States
ATTACH;FMTTYPE=image/jpeg:https://www.gaog.org/wp-content/uploads/2018-Fish-Fry-BBQ.jpg
ORGANIZER;CN="Guyana Association of Georgia":MAILTO:gaog.secretary@gmail.com
END:VEVENT
END:VCALENDAR