BEGIN:VCALENDAR
VERSION:2.0
PRODID:-//Guyana Association of Georgia - ECPv6.6.0.1//NONSGML v1.0//EN
CALSCALE:GREGORIAN
METHOD:PUBLISH
X-ORIGINAL-URL:https://www.gaog.org
X-WR-CALDESC:Events for Guyana Association of Georgia
REFRESH-INTERVAL;VALUE=DURATION:PT1H
X-Robots-Tag:noindex
X-PUBLISHED-TTL:PT1H
BEGIN:VTIMEZONE
TZID:America/New_York
BEGIN:DAYLIGHT
TZOFFSETFROM:-0500
TZOFFSETTO:-0400
TZNAME:EDT
DTSTART:20200308T070000
END:DAYLIGHT
BEGIN:STANDARD
TZOFFSETFROM:-0400
TZOFFSETTO:-0500
TZNAME:EST
DTSTART:20201101T060000
END:STANDARD
END:VTIMEZONE
BEGIN:VEVENT
DTSTART;TZID=America/New_York:20200404T140000
DTEND;TZID=America/New_York:20200404T180000
DTSTAMP:20260423T040950
CREATED:20200311T151000Z
LAST-MODIFIED:20200311T151000Z
UID:17996-1586008800-1586023200@www.gaog.org
SUMMARY:9th Annual Brunch
DESCRIPTION:
URL:https://www.gaog.org/event/9th-annual-brunch/
LOCATION:Kelly Chapel United Methodist Church\, 3411 Kelley Chapel Road\, Decatur\, 30034\, United States
ATTACH;FMTTYPE=image/jpeg:https://www.gaog.org/wp-content/uploads/2020-Brunch-flyer-372020.jpg
ORGANIZER;CN="Guyana Association of Georgia":MAILTO:gaog.secretary@gmail.com
END:VEVENT
BEGIN:VEVENT
DTSTART;VALUE=DATE:20200524
DTEND;VALUE=DATE:20200526
DTSTAMP:20260423T040950
CREATED:20200311T152307Z
LAST-MODIFIED:20200311T152307Z
UID:18004-1590292800-1590379199@www.gaog.org
SUMMARY:2020 Family Fun Day
DESCRIPTION:Save the Date
URL:https://www.gaog.org/event/2020-family-fun-day/
ATTACH;FMTTYPE=image/jpeg:https://www.gaog.org/wp-content/uploads/2020-save-the-day.jpg
ORGANIZER;CN="Guyana Association of Georgia":MAILTO:gaog.secretary@gmail.com
END:VEVENT
BEGIN:VEVENT
DTSTART;TZID=America/New_York:20200926T180000
DTEND;TZID=America/New_York:20200926T203000
DTSTAMP:20260423T040950
CREATED:20200916T145606Z
LAST-MODIFIED:20200916T145606Z
UID:18034-1601143200-1601152200@www.gaog.org
SUMMARY:Virtual Scholarship Awards - 29th Anniversary Celebration
DESCRIPTION:Join us virtually from your home as we livestream from CaribbeanlifeTV Studios \nSaturday\, September 26\, 2020 \nAward program: 6:00 p.m. -8:30 p.m. \nDonation: $20.00 –towards GAOG Scholarship fund \nClick on the link below to make your donation \n  \nEnjoy live music: 8:30 p.m. –10:00 p.m. \nBy DJ Chigga \n  \n\nHome \n \n  \nYour access code will be sent to your email \nInfo: 678-913-4948 * 404-717-7556 \nGaog.scholarship@gmail.com
URL:https://www.gaog.org/event/virtual-scholarship-awards-29th-anniversary-celebration/
ATTACH;FMTTYPE=image/png:https://www.gaog.org/wp-content/uploads/Screen-Shot-2020-09-16-at-10.50.00-AM.png
END:VEVENT
END:VCALENDAR